BEGIN:VCALENDAR
VERSION:2.0
PRODID:-//AUCKLAND MORRIS MINOR CAR CLUB INC - ECPv5.0.3.1//NONSGML v1.0//EN
CALSCALE:GREGORIAN
METHOD:PUBLISH
X-WR-CALNAME:AUCKLAND MORRIS MINOR CAR CLUB INC
X-ORIGINAL-URL:https://morrisminor.co.nz
X-WR-CALDESC:Events for AUCKLAND MORRIS MINOR CAR CLUB INC
BEGIN:VTIMEZONE
TZID:Pacific/Auckland
BEGIN:STANDARD
TZOFFSETFROM:+1300
TZOFFSETTO:+1200
TZNAME:NZST
DTSTART:20210403T140000
END:STANDARD
BEGIN:DAYLIGHT
TZOFFSETFROM:+1200
TZOFFSETTO:+1300
TZNAME:NZDT
DTSTART:20210925T140000
END:DAYLIGHT
END:VTIMEZONE
BEGIN:VEVENT
DTSTART;VALUE=DATE:20210214
DTEND;VALUE=DATE:20210215
DTSTAMP:20210122T054610
CREATED:20201029T065404Z
LAST-MODIFIED:20201029T065740Z
UID:705-1613260800-1613347199@morrisminor.co.nz
SUMMARY:Ellerslie Classic Car Show
DESCRIPTION:Sunday Febrary 14th\n \nEllerslie Classic Car Show  \nOpen to public 10am – 4 pm \nArrival time for cars on display no later than 9.15am \nThe club needs 6 Morries for our club display. \nPlease let Pauline Keesing (021 103 7623) know if you want to display your car. \n
URL:https://morrisminor.co.nz/event/ellerslie-classic-car-show/
END:VEVENT
BEGIN:VEVENT
DTSTART;TZID=Pacific/Auckland:20210307T100000
DTEND;TZID=Pacific/Auckland:20210307T150000
DTSTAMP:20210122T054610
CREATED:20201029T065605Z
LAST-MODIFIED:20201029T065605Z
UID:707-1615111200-1615129200@morrisminor.co.nz
SUMMARY:Auckland Brits & Euro Classic Car Show
DESCRIPTION:Sunday March 7th \nLloyd Elsmore Park Pakuranga 10am – 3pm \nPlease let Pauline Keesing know if you would like to show your car. \nWe have booked a site for 12 cars \nWill let you know arrival time later for cars. \n
URL:https://morrisminor.co.nz/event/auckland-brits-euro-classic-car-show/
END:VEVENT
END:VCALENDAR